 BEGIN:VCALENDAR
VERSION:2.0
PRODID:-//Chapter Zero - ECPv6.15.11//NONSGML v1.0//EN
CALSCALE:GREGORIAN
METHOD:PUBLISH
X-ORIGINAL-URL:https://chapterzerouae.com
X-WR-CALDESC:Events for Chapter Zero
REFRESH-INTERVAL;VALUE=DURATION:PT1H
X-Robots-Tag:noindex
X-PUBLISHED-TTL:PT1H
BEGIN:VTIMEZONE
TZID:UTC
BEGIN:STANDARD
TZOFFSETFROM:+0000
TZOFFSETTO:+0000
TZNAME:UTC
DTSTART:20230101T000000
END:STANDARD
END:VTIMEZONE
BEGIN:VEVENT
DTSTART;TZID=UTC:20250925T130000
DTEND;TZID=UTC:20250925T140000
DTSTAMP:20260425T160656
CREATED:20241225T125952Z
LAST-MODIFIED:20241225T125952Z
UID:179-1758805200-1758808800@chapterzerouae.com
SUMMARY:Chapter Zero UAE Webinar: Climate Policies & Process
DESCRIPTION:
URL:https://chapterzerouae.com/events/chapter-zero-uae-webinar-climate-policies-process/
ATTACH;FMTTYPE=image/jpeg:https://chapterzerouae.com/wp-content/uploads/2024/12/compas.jpg
END:VEVENT
BEGIN:VEVENT
DTSTART;TZID=UTC:20250529T100000
DTEND;TZID=UTC:20250529T120000
DTSTAMP:20260425T160656
CREATED:20250522T094342Z
LAST-MODIFIED:20250724T102902Z
UID:1419-1748512800-1748520000@chapterzerouae.com
SUMMARY:Chapter Zero UAE | Navigating a new era: Preparing boards for a more sustainable future
DESCRIPTION:On 29 May 2025\, Chapter Zero UAE co-hosted the Climate Governance Symposium in partnership with INSEAD\, INSEAD NAA UAE\, and the INSEAD International Directors Network. The event convened board directors\, finance leaders\, and sustainability experts to explore how corporate boards must evolve to lead in the era of climate risk. \nThe symposium emphasised the need for climate-literate boards\, credible transition planning\, and an understanding of sustainable finance tools—from green bonds to blended finance. Through engaging sessions with experts from INSEAD\, Bain & Company\, and the development finance world\, participants gained actionable insights to support better climate governance\, strategic decision-making\, and alignment with evolving regulatory expectations in the UAE and globally. \nDownload and read the whitepaper here!
URL:https://chapterzerouae.com/events/chapter-zero-uae-navigating-a-new-era-preparing-boards-for-a-more-sustainable-future/
ATTACH;FMTTYPE=image/jpeg:https://chapterzerouae.com/wp-content/uploads/2025/05/IMG_4660-scaled.jpg
END:VEVENT
BEGIN:VEVENT
DTSTART;TZID=UTC:20250526T100000
DTEND;TZID=UTC:20250526T110000
DTSTAMP:20260425T160656
CREATED:20241225T125914Z
LAST-MODIFIED:20250522T094548Z
UID:177-1748253600-1748257200@chapterzerouae.com
SUMMARY:UAE Climate Law & Carbon Credit Regulation
DESCRIPTION:We will be providing a clear and practical overview of two landmark regulatory developments: the Law on the Reduction of Climate Change Effects and the Cabinet Resolution establishing the National Carbon Credit Register. \nRegister your attendance here.
URL:https://chapterzerouae.com/events/chapter-zero-uae-webinar-climate-risks-and-opportunities/
ATTACH;FMTTYPE=image/jpeg:https://chapterzerouae.com/wp-content/uploads/2024/12/solar-panel.jpeg
END:VEVENT
BEGIN:VEVENT
DTSTART;TZID=UTC:20250206T130000
DTEND;TZID=UTC:20250206T140000
DTSTAMP:20260425T160656
CREATED:20241225T125839Z
LAST-MODIFIED:20241225T130024Z
UID:174-1738846800-1738850400@chapterzerouae.com
SUMMARY:Chapter Zero UAE Webinar: Climate Change and Air Pollution in the Middle East
DESCRIPTION:
URL:https://chapterzerouae.com/events/chapter-zero-uae-webinar-climate-change-and-air-pollution-in-the-middle-east/
ATTACH;FMTTYPE=image/webp:https://chapterzerouae.com/wp-content/uploads/2024/12/About-us-header-scaled.webp
END:VEVENT
BEGIN:VEVENT
DTSTART;TZID=UTC:20250116T133000
DTEND;TZID=UTC:20250116T153000
DTSTAMP:20260425T160656
CREATED:20250108T133340Z
LAST-MODIFIED:20250701T072526Z
UID:437-1737034200-1737041400@chapterzerouae.com
SUMMARY:Climate Impact at the Board: Aligning Governance with Sustainability​
DESCRIPTION:On 16 January 2025\, Chapter Zero UAE hosted an exclusive dialogue during Abu Dhabi Sustainability Week titled “Climate Impact at the Board: Aligning Governance with Sustainability.” The session brought together senior board directors and C-suite leaders to explore how effective governance can accelerate corporate climate action. HH Sheikha Shamma bint Sultan bin Khalifa Al Nahyan opened the session\, followed by insights from Karina Litvack\, Founding Chair of the Climate Governance Initiative. \nKey themes included the need for climate-competent boards\, informed engagement with executive teams\, and a proactive approach to emerging risks and opportunities. UAE case studies from Tabreed\, BEEAH\, Aldar and Fertiglobe highlighted tangible actions in sectors from real estate to industry. The event reinforced the board’s role in steering net-zero transitions and the growing regulatory landscape shaping climate governance in the UAE. \n📄 Click here to view the post-event report.
URL:https://chapterzerouae.com/events/climate-impact-at-the-board-aligning-governance-with-sustainability/
ATTACH;FMTTYPE=image/jpeg:https://chapterzerouae.com/wp-content/uploads/2025/01/MAR6970-scaled.jpg
END:VEVENT
BEGIN:VEVENT
DTSTART;TZID=UTC:20241210T130000
DTEND;TZID=UTC:20241210T140000
DTSTAMP:20260425T160656
CREATED:20250108T134249Z
LAST-MODIFIED:20250108T134249Z
UID:445-1733835600-1733839200@chapterzerouae.com
SUMMARY:Chapter Zero UAE Webinar: The Principles for Effective Climate Governance
DESCRIPTION:In this insightful session\, Emily Farnworth\, Director at the Centre for Climate Engagement at the University of Cambridge\, will explore key principles that empower board directors to drive meaningful climate action within their organizations. Gain valuable insights into how effective governance can shape resilient\, sustainable strategies in a rapidly changing world. \n📅 Date: 10th December 2024\n⏰ Time: 1:00 PM – 2:00 PM GST\n💡 Topic: The Principles of Effective Climate Governance\n📘 Series: Fundamentals of Climate Governance #1 \nRegister here.
URL:https://chapterzerouae.com/events/chapter-zero-uae-webinar-the-principles-for-effective-climate-governance/
ATTACH;FMTTYPE=image/png:https://chapterzerouae.com/wp-content/uploads/2025/01/Quote-template-with-headshot-2.png
END:VEVENT
BEGIN:VEVENT
DTSTART;VALUE=DATE:20241031
DTEND;VALUE=DATE:20241101
DTSTAMP:20260425T160656
CREATED:20250108T134049Z
LAST-MODIFIED:20250108T134049Z
UID:442-1730332800-1730419199@chapterzerouae.com
SUMMARY:Chapter Zero UAE Launch Event
DESCRIPTION:The Chapter Zero UAE will launch on 31 October 2024 with an event entitled “Leading Climate Governance in UAE”. The Chapter Zero UAE is an emerging local Chapter of Climate Governance Initiative\, which is composed of\, currently\, over 31 Chapters and a network of 72 countries. \nThe mission is to support board directors in acquiring sufficient knowledge and insights on climate change and the challenges it poses to companies\, so that they are better equipped to guide management and provide necessary oversight to them. \nThe Chapter Zero UAE is composed of representatives of partner organizations\, directors\, including both non-executive directors and executive directors who are Board Members\, and selected subject matter experts. \nRegister your interest for the event launch.
URL:https://chapterzerouae.com/events/chapter-zero-uae-launch-event/
ATTACH;FMTTYPE=image/webp:https://chapterzerouae.com/wp-content/uploads/2025/01/UAE-Launch-Event-scaled-1.webp
END:VEVENT
BEGIN:VEVENT
DTSTART;VALUE=DATE:20241022
DTEND;VALUE=DATE:20241023
DTSTAMP:20260425T160656
CREATED:20250108T133852Z
LAST-MODIFIED:20250108T133936Z
UID:440-1729555200-1729641599@chapterzerouae.com
SUMMARY:Transition Planning for Climate Action & the Role of the Board
DESCRIPTION:Chapter Zero Brussels is excited to launch an interactive webinar series on “Transition Planning for Climate Action & the Role of the Board” in collaboration with Climact\, the Belgian leader in climate consulting. \nTo navigate the transformative journey towards a low carbon economy\, companies should have effective transition plans in place. Transition plans should be time-bound and outline the targets\, actions and resources required to pivot the company’s assets\, operations\, value chain and even\, in some cases\, the entire business model\, towards a low carbon future. This transformative journey will require specific oversight and involvement from the board. \nIn this webinar series\, we will explain the “what\, why and how” of transition planning\, highlighting the specific role of the board. We will start with a special focus on the manufacturing sector\, followed by a session on the financial sector in autumn. Throughout the series\, we will be joined by Jerome Meessen\, Associate Partner at Climact and other industry experts.
URL:https://chapterzerouae.com/events/transition-planning-for-climate-action-the-role-of-the-board/
ATTACH;FMTTYPE=image/jpeg:https://chapterzerouae.com/wp-content/uploads/2024/12/compas.jpg
END:VEVENT
END:VCALENDAR